Workbook

Sheet 【総括表】事業所控 (入力・印刷)
D2: 給与支払報告書（総括表）
AD4: 指 定 番 号
D7: 令和 | I7: 年 | M7: 月 | Q7: 日提出
E8: 給与の支払期間 | P8: 令和 | T8: 年 | W8: 月分から | AA8: 月分まで
D9: 給 与 支 払 者 の 個人番号又は法人番号
E11: フリガナ | AE11: 事業種目
E12: 給与支払者の 氏名又は名称
AE14: 受給者 総人員 | AU14: 人
E15: 所得税の源泉徴収 をしている事務所 又は事業の名称
AD17: 報 告 人 員 | AF17: 特別徴収対象者 | AU17: 人
E19: フリガナ | AF19: 普通徴収対象者 （退職者） | AU19: 人
E20: 同上の所在地 | P20: 〒
AF21: 普通徴収対象者 （退職者を除く） | AU21: 人
E23: 給与支払者が 法人である場合 の代表者の氏名 | AF23: 報告人員の合計 | AU23: 人
AE25: 所轄 税務署名 | AT25: 税務署
B27: 事業所控 | E27: 連絡者の氏名、 所属課、係名 及び電話番号 | V27: 課 | AB27: 係
P28: 氏名 | AE28: 給与の支払方法 及びその期日
P30: （電話 | AC30: )
E31: 関与税理士等の氏名 及び電話番号 | P31: 氏名 | AE31: 納入書の送付 | AN31: 必要 ・ 不要
P33: （電話 | AC33: )
D35: 第17号様式記載要領
D36: １ ２ | F36: この給与支払報告書（以下「報告書」という。）は、地方税法（以下「法」という。）第317条の６第１項又は第３項に規定する給与について使用してください。 給与の支払をする者で、給与所得について所得税を源泉徴収する義務のあるものは、次により関係市町村に報告書を提出してください。
D40: (イ) (ロ) | G40: １月１日現在において給与の支払を受けている者 １月31日まで 給与の支払を受けている者のうち給与の支払を受けなくなったもの 退職した年の翌年の１月31日まで
D43: ３ ４ ５ ６ ７ ８ ９ 10 11 12 13 14 | F43: 「指定番号」欄には、提出先の市町村が定める指定番号を記載してください。 「給与の支払期間」欄には、「報告人員の合計」欄で計上された人員に給与を支払った期間を記載してください。 「給与支払者の個人番号又は法人番号」欄には、給与支払者の個人番号（行政手続における特定の個人を識別するための番号の利用等に関する法律第２条第５項に規定する個人番号をいう。以下同じ。）又は法人番号（同条第15項に規定する法人番号をいう。）を記載してください。なお、個人番号を記載する場合は、左側を１文字空けて記載してください。 「給与支払者が法人である場合の代表者の氏名」欄には、経理責任者の職氏名を記載してください。給与支払者が国の機関である場合には、国の機関名を記載してください。 「連絡者の氏名、所属課、係名及び電話番号」欄には、この報告書について応答する者の氏名、所属課、係名及びその電話番号を記載してください。 「関与税理士等の氏名及び電話番号」欄には、税理士等が報告書を作成する場合に、報告書に関する問合せ先となる税理士等の氏名及び電話番号を記載してください。 「受給者総人員」欄には、１月１日現在において給与の支払をする事務所、事業所等から給与等の支払を受けている者の総人員を記載してください。 「特別徴収対象者」欄には、提出先の市町村に対して「給与支払報告書（個人別明細書）」を提出する者で、特別徴収の対象となるものの人員を記載してください。 「普通徴収対象者（退職者）」欄には、提出先の市町村に対して「給与支払報告書（個人別明細書）」を提出する者で、普通徴収の対象となるもののうち退職者の人員を記載してください。 「普通徴収対象者（退職者を除く）」欄には、提出先の市町村に対して「給与支払報告書（個人別明細書）」を提出する者で、普通徴収の対象となるもののうち退職者を除いた人員を記載してください。 「報告人員の合計」欄には、「特別徴収対象者」欄、「普通徴収対象者（退職者）」欄及び「普通徴収対象者（退職者を除く）」欄の人員の合計を記載してください。 「給与の支払方法及びその期日」欄には、月給、週給等及び毎月20日、毎週月曜日等と記載してください。

Sheet 【総括表】市町村提出用（印刷必要）
D2: 給与支払報告書（総括表） | BI2: 給与支払報告書（総括表）
AD4: 指 定 番 号 | CI4: 指 定 番 号
AD5: ='【総括表】事業所控 (入力・印刷)'!AD5:AV6 -> 0 | CI5: =AD5 -> 0
D7: 令和 | G7: ='【総括表】事業所控 (入力・印刷)'!G7:H7 -> 0 | I7: 年 | K7: ='【総括表】事業所控 (入力・印刷)'!K7:L7 -> 0 | M7: 月 | O7: ='【総括表】事業所控 (入力・印刷)'!O7:P7 -> 0 | Q7: 日提出 | BI7: 令和 | BL7: =G7 -> 0 | BN7: 年 | BP7: =K7 -> 0 | BR7: 月 | BT7: =O7 -> 0 | BV7: 日提出
E8: 給与の支払期間 | P8: 令和 | R8: ='【総括表】事業所控 (入力・印刷)'!R8:S8 -> 0 | T8: 年 | U8: ='【総括表】事業所控 (入力・印刷)'!U8:V8 -> 0 | W8: 月分から | Z8: ='【総括表】事業所控 (入力・印刷)'!Z8 -> 0 | AA8: 月分まで | BJ8: 給与の支払期間 | BU8: 令和 | BW8: =R8 -> 0 | BY8: 年 | BZ8: =U8 -> 0 | CB8: 月分から | CE8: =Z8 -> 0 | CF8: 月分まで
D9: 給 与 支 払 者 の 個人番号又は法人番号 | P9: =IF('【総括表】事業所控 (入力・印刷)'!P9<>"",'【総括表】事業所控 (入力・印刷)'!P9,"") | R9: =IF('【総括表】事業所控 (入力・印刷)'!R9<>"",'【総括表】事業所控 (入力・印刷)'!R9,"") | T9: =IF('【総括表】事業所控 (入力・印刷)'!T9<>"",'【総括表】事業所控 (入力・印刷)'!T9,"") | V9: =IF('【総括表】事業所控 (入力・印刷)'!V9<>"",'【総括表】事業所控 (入力・印刷)'!V9,"") | X9: =IF('【総括表】事業所控 (入力・印刷)'!X9<>"",'【総括表】事業所控 (入力・印刷)'!X9,"") | Z9: =IF('【総括表】事業所控 (入力・印刷)'!Z9<>"",'【総括表】事業所控 (入力・印刷)'!Z9,"") | AB9: =IF('【総括表】事業所控 (入力・印刷)'!AB9<>"",'【総括表】事業所控 (入力・印刷)'!AB9,"") | AD9: =IF('【総括表】事業所控 (入力・印刷)'!AD9<>"",'【総括表】事業所控 (入力・印刷)'!AD9,"") | AF9: =IF('【総括表】事業所控 (入力・印刷)'!AF9<>"",'【総括表】事業所控 (入力・印刷)'!AF9,"") | AH9: =IF('【総括表】事業所控 (入力・印刷)'!AH9<>"",'【総括表】事業所控 (入力・印刷)'!AH9,"") | AJ9: =IF('【総括表】事業所控 (入力・印刷)'!AJ9<>"",'【総括表】事業所控 (入力・印刷)'!AJ9,"") | AL9: =IF('【総括表】事業所控 (入力・印刷)'!AL9<>"",'【総括表】事業所控 (入力・印刷)'!AL9,"") | AN9: =IF('【総括表】事業所控 (入力・印刷)'!AN9<>"",'【総括表】事業所控 (入力・印刷)'!AN9,"") | BI9: 給 与 支 払 者 の 個人番号又は法人番号 | BU9: =IF('【総括表】事業所控 (入力・印刷)'!P9<>"",'【総括表】事業所控 (入力・印刷)'!P9,"") | BW9: =IF('【総括表】事業所控 (入力・印刷)'!R9<>"",'【総括表】事業所控 (入力・印刷)'!R9,"") | BY9: =IF('【総括表】事業所控 (入力・印刷)'!T9<>"",'【総括表】事業所控 (入力・印刷)'!T9,"") | CA9: =IF('【総括表】事業所控 (入力・印刷)'!V9<>"",'【総括表】事業所控 (入力・印刷)'!V9,"") | CC9: =IF('【総括表】事業所控 (入力・印刷)'!X9<>"",'【総括表】事業所控 (入力・印刷)'!X9,"") | CE9: =IF('【総括表】事業所控 (入力・印刷)'!Z9<>"",'【総括表】事業所控 (入力・印刷)'!Z9,"") | CG9: =IF('【総括表】事業所控 (入力・印刷)'!AB9<>"",'【総括表】事業所控 (入力・印刷)'!AB9,"") | CI9: =IF('【総括表】事業所控 (入力・印刷)'!AD9<>"",'【総括表】事業所控 (入力・印刷)'!AD9,"") | CK9: =IF('【総括表】事業所控 (入力・印刷)'!AF9<>"",'【総括表】事業所控 (入力・印刷)'!AF9,"") | CM9: =IF('【総括表】事業所控 (入力・印刷)'!AH9<>"",'【総括表】事業所控 (入力・印刷)'!AH9,"") | CO9: =IF('【総括表】事業所控 (入力・印刷)'!AJ9<>"",'【総括表】事業所控 (入力・印刷)'!AJ9,"") | CQ9: =IF('【総括表】事業所控 (入力・印刷)'!AL9<>"",'【総括表】事業所控 (入力・印刷)'!AL9,"") | CS9: =IF('【総括表】事業所控 (入力・印刷)'!AN9<>"",'【総括表】事業所控 (入力・印刷)'!AN9,"")
E11: フリガナ | P11: ='【総括表】事業所控 (入力・印刷)'!P11:AC11 -> 0 | AE11: 事業種目 | AN11: ='【総括表】事業所控 (入力・印刷)'!AN11:AV13 -> 0 | BJ11: フリガナ | BU11: =P11 -> 0 | CJ11: 事業種目 | CS11: =AN11 -> 0
E12: 給与支払者の 氏名又は名称 | P12: ='【総括表】事業所控 (入力・印刷)'!P12:AC14 -> 0 | BJ12: 給与支払者の 氏名又は名称 | BU12: =P12 -> 0
AE14: 受給者 総人員 | AN14: ='【総括表】事業所控 (入力・印刷)'!AN14:AT16 -> 0 | AU14: 人 | CJ14: 受給者 総人員 | CS14: =AN14 -> 0 | CZ14: 人
E15: 所得税の源泉徴収 をしている事務所 又は事業の名称 | P15: ='【総括表】事業所控 (入力・印刷)'!P15:AC18 -> 0 | BJ15: 所得税の源泉徴収 をしている事務所 又は事業の名称 | BU15: =P15 -> 0
AD17: 報 告 人 員 | AF17: 特別徴収対象者 | AN17: =IF('【総括表】事業所控 (入力・印刷)'!AN17<>"",'【総括表】事業所控 (入力・印刷)'!AN17,"") | AU17: 人 | CI17: 報 告 人 員 | CK17: 特別徴収対象者 | CS17: =AN17 | CZ17: 人
E19: フリガナ | P19: ='【総括表】事業所控 (入力・印刷)'!P19:AC19 -> 0 | AF19: 普通徴収対象者 （退職者） | AN19: =IF('【総括表】事業所控 (入力・印刷)'!AN19<>"",'【総括表】事業所控 (入力・印刷)'!AN19,"") | AU19: 人 | BJ19: フリガナ | BU19: =P19 -> 0 | CK19: 普通徴収対象者 （退職者） | CS19: =AN19 | CZ19: 人
E20: 同上の所在地 | P20: 〒 | Q20: ='【総括表】事業所控 (入力・印刷)'!Q20:AC20 -> 0 | BJ20: 同上の所在地 | BU20: =P20 -> 〒 | BV20: =Q20 -> 0
P21: ='【総括表】事業所控 (入力・印刷)'!P21:AC22 -> 0 | AF21: 普通徴収対象者 （退職者を除く） | AN21: =IF('【総括表】事業所控 (入力・印刷)'!AN21<>"",'【総括表】事業所控 (入力・印刷)'!AN21,"") | AU21: 人 | BU21: =P21 -> 0 | CK21: 普通徴収対象者 （退職者を除く） | CS21: =AN21 | CZ21: 人
E23: 給与支払者が 法人である場合 の代表者の氏名 | P23: ='【総括表】事業所控 (入力・印刷)'!P23:AC26 -> 0 | AF23: 報告人員の合計 | AN23: ='【総括表】事業所控 (入力・印刷)'!AN23:AT24 -> 0 | AU23: 人 | BJ23: 給与支払者が 法人である場合 の代表者の氏名 | BU23: =P23 -> 0 | CK23: 報告人員の合計 | CS23: =AN23 -> 0 | CZ23: 人
AE25: 所轄 税務署名 | AN25: ='【総括表】事業所控 (入力・印刷)'!AN25:AS27 -> 0 | AT25: 税務署 | CJ25: 所轄 税務署名 | CS25: =AN25 -> 0 | CY25: 税務署
B27: 市町村提出用 | E27: 連絡者の氏名、 所属課、係名 及び電話番号 | P27: ='【総括表】事業所控 (入力・印刷)'!P27:U27 -> 0 | V27: 課 | X27: ='【総括表】事業所控 (入力・印刷)'!X27:AA27 -> 0 | AB27: 係 | BG27: 市町村提出用 | BJ27: 連絡者の氏名、 所属課、係名 及び電話番号 | BU27: =P27 -> 0 | CA27: 課 | CC27: =X27 -> 0 | CG27: 係
P28: 氏名 | R28: ='【総括表】事業所控 (入力・印刷)'!R28:AC29 -> 0 | AE28: 給与の支払方法 及びその期日 | AN28: ='【総括表】事業所控 (入力・印刷)'!AN28:AV30 -> 0 | BU28: 氏名 | BW28: =R28 -> 0 | CJ28: 給与の支払方法 及びその期日 | CS28: =AN28 -> 0
P30: （電話 | S30: ='【総括表】事業所控 (入力・印刷)'!S30:AB30 -> 0 | AC30: ) | BU30: （電話 | BX30: =S30 -> 0 | CH30: )
E31: 関与税理士等の氏名 及び電話番号 | P31: 氏名 | R31: ='【総括表】事業所控 (入力・印刷)'!R31:AC32 -> 0 | AE31: 納入書の送付 | AN31: 必要 ・ 不要 | BJ31: 関与税理士等の氏名 及び電話番号 | BU31: 氏名 | BW31: =R31 -> 0 | CJ31: 納入書の送付 | CS31: 必要 ・ 不要
P33: （電話 | S33: ='【総括表】事業所控 (入力・印刷)'!S33:AB33 -> 0 | AC33: ) | BU33: （電話 | BX33: =S33 -> 0 | CH33: )
D35: 第17号様式記載要領 | BI35: 第17号様式記載要領
D36: １ ２ | F36: この給与支払報告書（以下「報告書」という。）は、地方税法（以下「法」という。）第317条の６第１項又は第３項に規定する給与について使用してください。 給与の支払をする者で、給与所得について所得税を源泉徴収する義務のあるものは、次により関係市町村に報告書を提出してください。 | BI36: １ ２ | BK36: この給与支払報告書（以下「報告書」という。）は、地方税法（以下「法」という。）第317条の６第１項又は第３項に規定する給与について使用してください。 給与の支払をする者で、給与所得について所得税を源泉徴収する義務のあるものは、次により関係市町村に報告書を提出してください。
D40: (イ) (ロ) | G40: １月１日現在において給与の支払を受けている者 １月31日まで 給与の支払を受けている者のうち給与の支払を受けなくなったもの 退職した年の翌年の１月31日まで | BI40: (イ) (ロ) | BL40: １月１日現在において給与の支払を受けている者 １月31日まで 給与の支払を受けている者のうち給与の支払を受けなくなったもの 退職した年の翌年の１月31日まで
D43: ３ ４ ５ ６ ７ ８ ９ 10 11 12 13 14 | F43: 「指定番号」欄には、提出先の市町村が定める指定番号を記載してください。 「給与の支払期間」欄には、「報告人員の合計」欄で計上された人員に給与を支払った期間を記載してください。 「給与支払者の個人番号又は法人番号」欄には、給与支払者の個人番号（行政手続における特定の個人を識別するための番号の利用等に関する法律第２条第５項に規定する個人番号をいう。以下同じ。）又は法人番号（同条第15項に規定する法人番号をいう。）を記載してください。なお、個人番号を記載する場合は、左側を１文字空けて記載してください。 「給与支払者が法人である場合の代表者の氏名」欄には、経理責任者の職氏名を記載してください。給与支払者が国の機関である場合には、国の機関名を記載してください。 「連絡者の氏名、所属課、係名及び電話番号」欄には、この報告書について応答する者の氏名、所属課、係名及びその電話番号を記載してください。 「関与税理士等の氏名及び電話番号」欄には、税理士等が報告書を作成する場合に、報告書に関する問合せ先となる税理士等の氏名及び電話番号を記載してください。 「受給者総人員」欄には、１月１日現在において給与の支払をする事務所、事業所等から給与等の支払を受けている者の総人員を記載してください。 「特別徴収対象者」欄には、提出先の市町村に対して「給与支払報告書（個人別明細書）」を提出する者で、特別徴収の対象となるものの人員を記載してください。 「普通徴収対象者（退職者）」欄には、提出先の市町村に対して「給与支払報告書（個人別明細書）」を提出する者で、普通徴収の対象となるもののうち退職者の人員を記載してください。 「普通徴収対象者（退職者を除く）」欄には、提出先の市町村に対して「給与支払報告書（個人別明細書）」を提出する者で、普通徴収の対象となるもののうち退職者を除いた人員を記載してください。 「報告人員の合計」欄には、「特別徴収対象者」欄、「普通徴収対象者（退職者）」欄及び「普通徴収対象者（退職者を除く）」欄の人員の合計を記載してください。 「給与の支払方法及びその期日」欄には、月給、週給等及び毎月20日、毎週月曜日等と記載してください。 | BI43: ３ ４ ５ ６ ７ ８ ９ 10 11 12 13 14 | BK43: 「指定番号」欄には、提出先の市町村が定める指定番号を記載してください。 「給与の支払期間」欄には、「報告人員の合計」欄で計上された人員に給与を支払った期間を記載してください。 「給与支払者の個人番号又は法人番号」欄には、給与支払者の個人番号（行政手続における特定の個人を識別するための番号の利用等に関する法律第２条第５項に規定する個人番号をいう。以下同じ。）又は法人番号（同条第15項に規定する法人番号をいう。）を記載してください。なお、個人番号を記載する場合は、左側を１文字空けて記載してください。 「給与支払者が法人である場合の代表者の氏名」欄には、経理責任者の職氏名を記載してください。給与支払者が国の機関である場合には、国の機関名を記載してください。 「連絡者の氏名、所属課、係名及び電話番号」欄には、この報告書について応答する者の氏名、所属課、係名及びその電話番号を記載してください。 「関与税理士等の氏名及び電話番号」欄には、税理士等が報告書を作成する場合に、報告書に関する問合せ先となる税理士等の氏名及び電話番号を記載してください。 「受給者総人員」欄には、１月１日現在において給与の支払をする事務所、事業所等から給与等の支払を受けている者の総人員を記載してください。 「特別徴収対象者」欄には、提出先の市町村に対して「給与支払報告書（個人別明細書）」を提出する者で、特別徴収の対象となるものの人員を記載してください。 「普通徴収対象者（退職者）」欄には、提出先の市町村に対して「給与支払報告書（個人別明細書）」を提出する者で、普通徴収の対象となるもののうち退職者の人員を記載してください。 「普通徴収対象者（退職者を除く）」欄には、提出先の市町村に対して「給与支払報告書（個人別明細書）」を提出する者で、普通徴収の対象となるもののうち退職者を除いた人員を記載してください。 「報告人員の合計」欄には、「特別徴収対象者」欄、「普通徴収対象者（退職者）」欄及び「普通徴収対象者（退職者を除く）」欄の人員の合計を記載してください。 「給与の支払方法及びその期日」欄には、月給、週給等及び毎月20日、毎週月曜日等と記載してください。

Sheet 記載例【総括表】
D1: 給与支払報告書（総括表）
AD3: 指 定 番 号
D6: 令和 ３ 年 １ 月 １５ 日提出
E7: 給与の支払期間 | P7: 令和２年 １ 月分から １２ 月分まで
D8: 給 与 支 払 者 の 個人番号又は法人番号 | P8: １ | R8: ２ | T8: ３ | V8: ４ | X8: ５ | Z8: ６ | AB8: ７ | AD8: ８ | AF8: ９ | AH8: ０ | AJ8: １ | AL8: ２ | AN8: ３
E10: フリガナ | P10: ムロト タロウ | AE10: 事業種目 | AO10: 食品卸売業
E11: 給与支払者の 氏名又は名称 | P11: 室戸 太郎
AE13: 受給者 総人員 | AN13: １００人
E14: 所得税の源泉徴収 をしている事務所 又は事業の名称 | P14: (株)室戸商店
AD16: 報 告 人 員 | AF16: 特別徴収対象者 | AN16: ３３人
E18: フリガナ | AF18: 普通徴収対象者 （退職者） | AN18: ６人
E19: 同上の所在地 | P19: 〒７８１－７１８５ 室戸市浮津２５－１
AF20: 普通徴収対象者 （退職者を除く） | AN20: １５人
E22: 給与支払者が 法人である場合 の代表者の氏名 | P22: 室戸 太郎 | AF22: 報告人員の合計 | AN22: ５４人
AE24: 所轄 税務署名 | AN24: ○○ 税務署
B26: 事業所控 | E26: 連絡者の氏名、 所属課、係名 及び電話番号 | P26: ●●課 ▲△ 係 氏名 室戸 花子 （電話 0887-22-5127 ）
AE27: 給与の支払方法 及びその期日 | AN27: 月給 毎月○○日
E30: 関与税理士等の氏名 及び電話番号 | P30: 氏名 税務 和男 （電話 0887-22-□□□□） | AE30: 納入書の送付 | AN30: 必要 ・ 不要
D34: 第17号様式記載要領
D35: １ ２ | F35: この給与支払報告書（以下「報告書」という。）は、地方税法（以下「法」という。）第317条の６第１項又は第３項に規定する給与について使用してください。 給与の支払をする者で、給与所得について所得税を源泉徴収する義務のあるものは、次により関係市町村に報告書を提出してください。
D39: (イ) (ロ) | G39: １月１日現在において給与の支払を受けている者 １月31日まで 給与の支払を受けている者のうち給与の支払を受けなくなったもの 退職した年の翌年の１月31日まで
D42: ３ ４ ５ ６ ７ ８ ９ 10 11 12 13 14 | F42: 「指定番号」欄には、提出先の市町村が定める指定番号を記載してください。 「給与の支払期間」欄には、「報告人員の合計」欄で計上された人員に給与を支払った期間を記載してください。 「給与支払者の個人番号又は法人番号」欄には、給与支払者の個人番号（行政手続における特定の個人を識別するための番号の利用等に関する法律第２条第５項に規定する個人番号をいう。以下同じ。）又は法人番号（同条第15項に規定する法人番号をいう。）を記載してください。なお、個人番号を記載する場合は、左側を１文字空けて記載してください。 「給与支払者が法人である場合の代表者の氏名」欄には、経理責任者の職氏名を記載してください。給与支払者が国の機関である場合には、国の機関名を記載してください。 「連絡者の氏名、所属課、係名及び電話番号」欄には、この報告書について応答する者の氏名、所属課、係名及びその電話番号を記載してください。 「関与税理士等の氏名及び電話番号」欄には、税理士等が報告書を作成する場合に、報告書に関する問合せ先となる税理士等の氏名及び電話番号を記載してください。 「受給者総人員」欄には、１月１日現在において給与の支払をする事務所、事業所等から給与等の支払を受けている者の総人員を記載してください。 「特別徴収対象者」欄には、提出先の市町村に対して「給与支払報告書（個人別明細書）」を提出する者で、特別徴収の対象となるものの人員を記載してください。 「普通徴収対象者（退職者）」欄には、提出先の市町村に対して「給与支払報告書（個人別明細書）」を提出する者で、普通徴収の対象となるもののうち退職者の人員を記載してください。 「普通徴収対象者（退職者を除く）」欄には、提出先の市町村に対して「給与支払報告書（個人別明細書）」を提出する者で、普通徴収の対象となるもののうち退職者を除いた人員を記載してください。 「報告人員の合計」欄には、「特別徴収対象者」欄、「普通徴収対象者（退職者）」欄及び「普通徴収対象者（退職者を除く）」欄の人員の合計を記載してください。 「給与の支払方法及びその期日」欄には、月給、週給等及び毎月20日、毎週月曜日等と記載してください。
